BEGIN:VCALENDAR
VERSION:2.0
PRODID:-//hacksw/handcal//NONSGML v1.0//EN
CALSCALE:GREGORIAN
BEGIN:VEVENT
LOCATION:
DESCRIPTION:https://www.charlotteonthecheap.com/event/charlotte-edge-fest/
DTSTART;TZID=America/New_York:20260421T111400
DTEND;TZID=America/New_York:20260421T111400
SUMMARY:CLT Edgefest: live painting\, music\, dancing\, more...
URL;VALUE=URI:https://www.charlotteonthecheap.com/event/charlotte-edge-fest/
DTSTAMP:20260421T111425
UID:69e794514fb89
END:VEVENT
END:VCALENDAR